BEGIN:VCALENDAR
VERSION:2.0
PRODID:-//Reservistenkameradschaft Karlsruhe - ECPv6.15.11//NONSGML v1.0//EN
CALSCALE:GREGORIAN
METHOD:PUBLISH
X-ORIGINAL-URL:https://rk-karlsruhe.de
X-WR-CALDESC:Veranstaltungen für Reservistenkameradschaft Karlsruhe
REFRESH-INTERVAL;VALUE=DURATION:PT1H
X-Robots-Tag:noindex
X-PUBLISHED-TTL:PT1H
BEGIN:VTIMEZONE
TZID:Europe/Berlin
BEGIN:DAYLIGHT
TZOFFSETFROM:+0100
TZOFFSETTO:+0200
TZNAME:CEST
DTSTART:20210328T010000
END:DAYLIGHT
BEGIN:STANDARD
TZOFFSETFROM:+0200
TZOFFSETTO:+0100
TZNAME:CET
DTSTART:20211031T010000
END:STANDARD
BEGIN:DAYLIGHT
TZOFFSETFROM:+0100
TZOFFSETTO:+0200
TZNAME:CEST
DTSTART:20220327T010000
END:DAYLIGHT
BEGIN:STANDARD
TZOFFSETFROM:+0200
TZOFFSETTO:+0100
TZNAME:CET
DTSTART:20221030T010000
END:STANDARD
BEGIN:DAYLIGHT
TZOFFSETFROM:+0100
TZOFFSETTO:+0200
TZNAME:CEST
DTSTART:20230326T010000
END:DAYLIGHT
BEGIN:STANDARD
TZOFFSETFROM:+0200
TZOFFSETTO:+0100
TZNAME:CET
DTSTART:20231029T010000
END:STANDARD
END:VTIMEZONE
BEGIN:VEVENT
DTSTART;TZID=Europe/Berlin:20221123T190000
DTEND;TZID=Europe/Berlin:20221123T220000
DTSTAMP:20260424T073149
CREATED:20221107T110122Z
LAST-MODIFIED:20221206T095339Z
UID:3502-1669230000-1669240800@rk-karlsruhe.de
SUMMARY:Stammtisch: Brauhaus 2.0
DESCRIPTION:
URL:https://rk-karlsruhe.de/t/stammtisch-nov-22/
LOCATION:Brauhaus 2.0\, Egon-Eiermann-Allee 8\, Karlsruhe\, 76187\, Deutschland
CATEGORIES:VVAG
ATTACH;FMTTYPE=image/jpeg:https://rk-karlsruhe.de/wp-content/uploads/2022/11/shutterstock_1932546821.jpg
ORGANIZER;CN="RK Karlsruhe":MAILTO:info@rk-karlsruhe.de
END:VEVENT
END:VCALENDAR