BEGIN:VCALENDAR
VERSION:2.0
PRODID:-//Reservistenkameradschaft Karlsruhe - ECPv6.15.11//NONSGML v1.0//EN
CALSCALE:GREGORIAN
METHOD:PUBLISH
X-WR-CALNAME:Reservistenkameradschaft Karlsruhe
X-ORIGINAL-URL:https://rk-karlsruhe.de
X-WR-CALDESC:Veranstaltungen für Reservistenkameradschaft Karlsruhe
REFRESH-INTERVAL;VALUE=DURATION:PT1H
X-Robots-Tag:noindex
X-PUBLISHED-TTL:PT1H
BEGIN:VTIMEZONE
TZID:Europe/Berlin
BEGIN:DAYLIGHT
TZOFFSETFROM:+0100
TZOFFSETTO:+0200
TZNAME:CEST
DTSTART:20210328T010000
END:DAYLIGHT
BEGIN:STANDARD
TZOFFSETFROM:+0200
TZOFFSETTO:+0100
TZNAME:CET
DTSTART:20211031T010000
END:STANDARD
BEGIN:DAYLIGHT
TZOFFSETFROM:+0100
TZOFFSETTO:+0200
TZNAME:CEST
DTSTART:20220327T010000
END:DAYLIGHT
BEGIN:STANDARD
TZOFFSETFROM:+0200
TZOFFSETTO:+0100
TZNAME:CET
DTSTART:20221030T010000
END:STANDARD
BEGIN:DAYLIGHT
TZOFFSETFROM:+0100
TZOFFSETTO:+0200
TZNAME:CEST
DTSTART:20230326T010000
END:DAYLIGHT
BEGIN:STANDARD
TZOFFSETFROM:+0200
TZOFFSETTO:+0100
TZNAME:CET
DTSTART:20231029T010000
END:STANDARD
END:VTIMEZONE
BEGIN:VEVENT
DTSTART;TZID=Europe/Berlin:20221214T190000
DTEND;TZID=Europe/Berlin:20221214T220000
DTSTAMP:20260424T043005
CREATED:20221107T110515Z
LAST-MODIFIED:20221205T161519Z
UID:3509-1671044400-1671055200@rk-karlsruhe.de
SUMMARY:RK-Abend: Kriegsdenkmäler
DESCRIPTION:Thema: Vortrag durch Frau Katherine Quinlan-Flatter mit dem Thema „Kriegsdenkmäler in der  Region Karlsruhe“\nVerpflegung: Flammkuchen\, Chili con Carne\, Frikadelle oder Landjäger mit Brot
URL:https://rk-karlsruhe.de/t/rk-abend-vortrag-marine/
LOCATION:SG Kirchfeld-Kaserne\, An der Trift 13-15\, Karlsruhe\, 76149
CATEGORIES:VVAG
ATTACH;FMTTYPE=image/jpeg:https://rk-karlsruhe.de/wp-content/uploads/2016/08/RK_Karlsruhe_I-0867.jpg
ORGANIZER;CN="RK Karlsruhe":MAILTO:info@rk-karlsruhe.de
END:VEVENT
BEGIN:VEVENT
DTSTART;TZID=Europe/Berlin:20221221T183000
DTEND;TZID=Europe/Berlin:20221221T230000
DTSTAMP:20260424T043005
CREATED:20221107T110252Z
LAST-MODIFIED:20221206T101114Z
UID:3506-1671647400-1671663600@rk-karlsruhe.de
SUMMARY:Jahresabschluss
DESCRIPTION:Werte Kameradinnen und Kameraden\, liebe Mitglieder! \nWieder neigt sich ein recht forderndes Jahr dem Ende zu. Schnell konnte die RK Karlsruhe wieder an den Stand vor Corona anknüpfen. Auch wenn wir als Gemeinschaft gut durch die Coronaphase gekommen sind und sogar weiter wachsen konnten\, gibt es viele Mitglieder die wir lange nicht mehr gesehen und aus den Augen verloren haben. \nDaher möchte ich im Namen des Vorstandes alle recht herzlich zu unserem Jahresabschluss 2022 in lockerer Runde einladen und bitte um Ihre/Eure Zusage:\nMittwoch\, den 21.12.2022 ab 18:30 Uhr in der Soldatengemeinschaft der Kirchfeld-Kaserne\, An der Trift 13-15 in 76149 KA-Kirchfeld \nAls Garderobe haben wir uns bewusst für zivile Bekleidung entschieden. \nGetränke (Glühwein/Wein/Bier/Wasser) und Essen (Weihnachtsgrillwurst) sind grundsätzlich frei\, aber über eine kleine Spende in die Sparpyramide freuen wir uns.\nNeben allen Mitgliedern der Reservistenkameradschaft Karlsruhe sind deren (Ehe-)Partner und weitere der RK Karlsruhe geneigte Personen geladen.\nAnmeldungen per E-Mail erbitten wir unter Nennung der Personenzahl an den stellvertretenden Vorsitzenden jochen.eckhardt@rk-karlsruhe.de zu richten.\nAnmeldeschluss ist Mittwoch der 14.12.2022. \nFür den Zugang zur Kaserne\, bitten wir bei der Anmeldung die vollständigen Namen aller Teilnehmer anzugeben\, sowie die Kfz-Marke\, Typ\, Farbe und das Kennzeichen.\nWir freuen uns auf hoffentlich sehr zahlreiche Meldungen und ein Wiedersehen und gute Gespräche!
URL:https://rk-karlsruhe.de/t/weihnachtsessen-22/
LOCATION:SG Kirchfeld-Kaserne\, An der Trift 13-15\, Karlsruhe\, 76149
CATEGORIES:VVAG
ATTACH;FMTTYPE=image/jpeg:https://rk-karlsruhe.de/wp-content/uploads/2016/08/RK_Karlsruhe_I-0885.jpg
ORGANIZER;CN="RK Karlsruhe":MAILTO:info@rk-karlsruhe.de
END:VEVENT
BEGIN:VEVENT
DTSTART;TZID=Europe/Berlin:20221228T190000
DTEND;TZID=Europe/Berlin:20221228T220000
DTSTAMP:20260424T043005
CREATED:20221107T110650Z
LAST-MODIFIED:20221206T095351Z
UID:3513-1672254000-1672264800@rk-karlsruhe.de
SUMMARY:Stammtisch: Carls Wirtshaus
DESCRIPTION:
URL:https://rk-karlsruhe.de/t/stammtisch-dez-22/
LOCATION:Carls Wirtshaus\, Alter Schlachthof 51\, Karlsruhe\, 76131\, Deutschland
CATEGORIES:VVAG
ATTACH;FMTTYPE=image/jpeg:https://rk-karlsruhe.de/wp-content/uploads/2022/11/shutterstock_1932546821.jpg
ORGANIZER;CN="RK Karlsruhe":MAILTO:info@rk-karlsruhe.de
END:VEVENT
END:VCALENDAR