BEGIN:VCALENDAR
VERSION:2.0
PRODID:-//Reservistenkameradschaft Karlsruhe - ECPv6.15.11//NONSGML v1.0//EN
CALSCALE:GREGORIAN
METHOD:PUBLISH
X-ORIGINAL-URL:https://rk-karlsruhe.de
X-WR-CALDESC:Veranstaltungen für Reservistenkameradschaft Karlsruhe
REFRESH-INTERVAL;VALUE=DURATION:PT1H
X-Robots-Tag:noindex
X-PUBLISHED-TTL:PT1H
BEGIN:VTIMEZONE
TZID:Europe/Berlin
BEGIN:DAYLIGHT
TZOFFSETFROM:+0100
TZOFFSETTO:+0200
TZNAME:CEST
DTSTART:20220327T010000
END:DAYLIGHT
BEGIN:STANDARD
TZOFFSETFROM:+0200
TZOFFSETTO:+0100
TZNAME:CET
DTSTART:20221030T010000
END:STANDARD
BEGIN:DAYLIGHT
TZOFFSETFROM:+0100
TZOFFSETTO:+0200
TZNAME:CEST
DTSTART:20230326T010000
END:DAYLIGHT
BEGIN:STANDARD
TZOFFSETFROM:+0200
TZOFFSETTO:+0100
TZNAME:CET
DTSTART:20231029T010000
END:STANDARD
BEGIN:DAYLIGHT
TZOFFSETFROM:+0100
TZOFFSETTO:+0200
TZNAME:CEST
DTSTART:20240331T010000
END:DAYLIGHT
BEGIN:STANDARD
TZOFFSETFROM:+0200
TZOFFSETTO:+0100
TZNAME:CET
DTSTART:20241027T010000
END:STANDARD
BEGIN:DAYLIGHT
TZOFFSETFROM:+0100
TZOFFSETTO:+0200
TZNAME:CEST
DTSTART:20250330T010000
END:DAYLIGHT
BEGIN:STANDARD
TZOFFSETFROM:+0200
TZOFFSETTO:+0100
TZNAME:CET
DTSTART:20251026T010000
END:STANDARD
END:VTIMEZONE
BEGIN:VEVENT
DTSTART;TZID=Europe/Berlin:20230208T190000
DTEND;TZID=Europe/Berlin:20230208T230000
DTSTAMP:20260423T214008
CREATED:20221205T143537Z
LAST-MODIFIED:20221206T095112Z
UID:5019-1675882800-1675897200@rk-karlsruhe.de
SUMMARY:RK-Abend: Panzertruppe
DESCRIPTION:
URL:https://rk-karlsruhe.de/t/vortrag-panzertruppe/
LOCATION:SG Kirchfeld-Kaserne\, An der Trift 13-15\, Karlsruhe\, 76149
CATEGORIES:VVAG
END:VEVENT
BEGIN:VEVENT
DTSTART;TZID=Europe/Berlin:20240127T120000
DTEND;TZID=Europe/Berlin:20240127T120000
DTSTAMP:20260423T214008
CREATED:20221205T144326Z
LAST-MODIFIED:20240626T174311Z
UID:5899-1706356800-1706356800@rk-karlsruhe.de
SUMMARY:RK-Neujahrsempfang
DESCRIPTION:Anzug: DA / zivil
URL:https://rk-karlsruhe.de/t/rk-neujahrsempfang-2/
LOCATION:SG Kirchfeld-Kaserne\, An der Trift 13-15\, Karlsruhe\, 76149
CATEGORIES:VVAG
ATTACH;FMTTYPE=image/jpeg:https://rk-karlsruhe.de/wp-content/uploads/2022/12/Shutterstock_2059768316.jpg
ORGANIZER;CN="RK Karlsruhe":MAILTO:info@rk-karlsruhe.de
END:VEVENT
BEGIN:VEVENT
DTSTART;TZID=Europe/Berlin:20230210T180000
DTEND;TZID=Europe/Berlin:20230210T230000
DTSTAMP:20260423T214008
CREATED:20221205T144326Z
LAST-MODIFIED:20221205T144331Z
UID:5023-1676052000-1676070000@rk-karlsruhe.de
SUMMARY:RK-Neujahrsempfang
DESCRIPTION:Anzug: DA / zivil
URL:https://rk-karlsruhe.de/t/rk-neujahrsempfang/
LOCATION:SG Kirchfeld-Kaserne\, An der Trift 13-15\, Karlsruhe\, 76149
CATEGORIES:VVAG
ATTACH;FMTTYPE=image/jpeg:https://rk-karlsruhe.de/wp-content/uploads/2022/12/Shutterstock_2059768316.jpg
ORGANIZER;CN="RK Karlsruhe":MAILTO:info@rk-karlsruhe.de
END:VEVENT
BEGIN:VEVENT
DTSTART;TZID=Europe/Berlin:20230222T190000
DTEND;TZID=Europe/Berlin:20230222T230000
DTSTAMP:20260423T214008
CREATED:20221205T151151Z
LAST-MODIFIED:20221205T151151Z
UID:5026-1677092400-1677106800@rk-karlsruhe.de
SUMMARY:Stammtisch: Carls Wirtshaus
DESCRIPTION:
URL:https://rk-karlsruhe.de/t/stammtisch-carls-wirtshaus/
LOCATION:Carls Wirtshaus\, Alter Schlachthof 51\, Karlsruhe\, 76131\, Deutschland
CATEGORIES:VVAG
ATTACH;FMTTYPE=image/jpeg:https://rk-karlsruhe.de/wp-content/uploads/2022/11/shutterstock_1932546821.jpg
ORGANIZER;CN="RK Karlsruhe":MAILTO:info@rk-karlsruhe.de
END:VEVENT
END:VCALENDAR