BEGIN:VCALENDAR
VERSION:2.0
PRODID:-//Reservistenkameradschaft Karlsruhe - ECPv6.15.11//NONSGML v1.0//EN
CALSCALE:GREGORIAN
METHOD:PUBLISH
X-WR-CALNAME:Reservistenkameradschaft Karlsruhe
X-ORIGINAL-URL:https://rk-karlsruhe.de
X-WR-CALDESC:Veranstaltungen für Reservistenkameradschaft Karlsruhe
REFRESH-INTERVAL;VALUE=DURATION:PT1H
X-Robots-Tag:noindex
X-PUBLISHED-TTL:PT1H
BEGIN:VTIMEZONE
TZID:Europe/Berlin
BEGIN:DAYLIGHT
TZOFFSETFROM:+0100
TZOFFSETTO:+0200
TZNAME:CEST
DTSTART:20220327T010000
END:DAYLIGHT
BEGIN:STANDARD
TZOFFSETFROM:+0200
TZOFFSETTO:+0100
TZNAME:CET
DTSTART:20221030T010000
END:STANDARD
BEGIN:DAYLIGHT
TZOFFSETFROM:+0100
TZOFFSETTO:+0200
TZNAME:CEST
DTSTART:20230326T010000
END:DAYLIGHT
BEGIN:STANDARD
TZOFFSETFROM:+0200
TZOFFSETTO:+0100
TZNAME:CET
DTSTART:20231029T010000
END:STANDARD
BEGIN:DAYLIGHT
TZOFFSETFROM:+0100
TZOFFSETTO:+0200
TZNAME:CEST
DTSTART:20240331T010000
END:DAYLIGHT
BEGIN:STANDARD
TZOFFSETFROM:+0200
TZOFFSETTO:+0100
TZNAME:CET
DTSTART:20241027T010000
END:STANDARD
END:VTIMEZONE
BEGIN:VEVENT
DTSTART;TZID=Europe/Berlin:20230610T090000
DTEND;TZID=Europe/Berlin:20230610T180000
DTSTAMP:20260423T151504
CREATED:20221205T153215Z
LAST-MODIFIED:20221206T101449Z
UID:5044-1686387600-1686420000@rk-karlsruhe.de
SUMMARY:O-Marsch: Tag
DESCRIPTION:Übung: Orientierung im Gelände\nAnzug: Feldanzug\nOrt: Raum Eichelberg\, 76646 Bruchsal
URL:https://rk-karlsruhe.de/t/o-marsch-tag-zwo/
LOCATION:Alsace
CATEGORIES:VVAG
ATTACH;FMTTYPE=image/jpeg:https://rk-karlsruhe.de/wp-content/uploads/2016/08/RK_Karlsruhe_I-1004.jpg
ORGANIZER;CN="RK Karlsruhe":MAILTO:info@rk-karlsruhe.de
END:VEVENT
BEGIN:VEVENT
DTSTART;TZID=Europe/Berlin:20230614T190000
DTEND;TZID=Europe/Berlin:20230614T230000
DTSTAMP:20260423T151504
CREATED:20221205T155159Z
LAST-MODIFIED:20221206T095027Z
UID:5062-1686769200-1686783600@rk-karlsruhe.de
SUMMARY:RK-Abend: Schlauchboot
DESCRIPTION:
URL:https://rk-karlsruhe.de/t/rk-abend-schlauchboot/
LOCATION:SG Kirchfeld-Kaserne\, An der Trift 13-15\, Karlsruhe\, 76149
CATEGORIES:VVAG
ATTACH;FMTTYPE=image/jpeg:https://rk-karlsruhe.de/wp-content/uploads/2016/08/DSC_0457-Kopie-scaled.jpg
ORGANIZER;CN="RK Karlsruhe":MAILTO:info@rk-karlsruhe.de
END:VEVENT
BEGIN:VEVENT
DTSTART;TZID=Europe/Berlin:20230628T190000
DTEND;TZID=Europe/Berlin:20230628T230000
DTSTAMP:20260423T151504
CREATED:20221205T155255Z
LAST-MODIFIED:20221205T155255Z
UID:5064-1687978800-1687993200@rk-karlsruhe.de
SUMMARY:Stammtisch: Carls Wirtshaus
DESCRIPTION:
URL:https://rk-karlsruhe.de/t/stammtisch-carls/
LOCATION:Carls Wirtshaus\, Alter Schlachthof 51\, Karlsruhe\, 76131\, Deutschland
CATEGORIES:VVAG
ATTACH;FMTTYPE=image/jpeg:https://rk-karlsruhe.de/wp-content/uploads/2022/11/shutterstock_1932546821.jpg
ORGANIZER;CN="RK Karlsruhe":MAILTO:info@rk-karlsruhe.de
END:VEVENT
END:VCALENDAR