BEGIN:VCALENDAR
VERSION:2.0
PRODID:-//Reservistenkameradschaft Karlsruhe - ECPv6.15.11//NONSGML v1.0//EN
CALSCALE:GREGORIAN
METHOD:PUBLISH
X-WR-CALNAME:Reservistenkameradschaft Karlsruhe
X-ORIGINAL-URL:https://rk-karlsruhe.de
X-WR-CALDESC:Veranstaltungen für Reservistenkameradschaft Karlsruhe
REFRESH-INTERVAL;VALUE=DURATION:PT1H
X-Robots-Tag:noindex
X-PUBLISHED-TTL:PT1H
BEGIN:VTIMEZONE
TZID:Europe/Berlin
BEGIN:DAYLIGHT
TZOFFSETFROM:+0100
TZOFFSETTO:+0200
TZNAME:CEST
DTSTART:20220327T010000
END:DAYLIGHT
BEGIN:STANDARD
TZOFFSETFROM:+0200
TZOFFSETTO:+0100
TZNAME:CET
DTSTART:20221030T010000
END:STANDARD
BEGIN:DAYLIGHT
TZOFFSETFROM:+0100
TZOFFSETTO:+0200
TZNAME:CEST
DTSTART:20230326T010000
END:DAYLIGHT
BEGIN:STANDARD
TZOFFSETFROM:+0200
TZOFFSETTO:+0100
TZNAME:CET
DTSTART:20231029T010000
END:STANDARD
BEGIN:DAYLIGHT
TZOFFSETFROM:+0100
TZOFFSETTO:+0200
TZNAME:CEST
DTSTART:20240331T010000
END:DAYLIGHT
BEGIN:STANDARD
TZOFFSETFROM:+0200
TZOFFSETTO:+0100
TZNAME:CET
DTSTART:20241027T010000
END:STANDARD
END:VTIMEZONE
BEGIN:VEVENT
DTSTART;TZID=Europe/Berlin:20230712T190000
DTEND;TZID=Europe/Berlin:20230712T230000
DTSTAMP:20260423T134346
CREATED:20221205T155555Z
LAST-MODIFIED:20221206T095016Z
UID:5066-1689188400-1689202800@rk-karlsruhe.de
SUMMARY:RK-Abend: Ballistische Schutzsysteme
DESCRIPTION:
URL:https://rk-karlsruhe.de/t/rk-abend-ballistische-schutzsysteme/
LOCATION:SG Kirchfeld-Kaserne\, An der Trift 13-15\, Karlsruhe\, 76149
CATEGORIES:VVAG
ATTACH;FMTTYPE=image/jpeg:https://rk-karlsruhe.de/wp-content/uploads/2016/08/RK_Karlsruhe_I-1180.jpg
ORGANIZER;CN="RK Karlsruhe":MAILTO:info@rk-karlsruhe.de
END:VEVENT
BEGIN:VEVENT
DTSTART;TZID=Europe/Berlin:20230715T140000
DTEND;TZID=Europe/Berlin:20230716T130000
DTSTAMP:20260423T134346
CREATED:20221207T163619Z
LAST-MODIFIED:20221207T164601Z
UID:5150-1689429600-1689512400@rk-karlsruhe.de
SUMMARY:Patrouille und Streife
DESCRIPTION:Allg. Mil. Ausbildung\,\nPatrouille und Streife zu Fuß mit Gewehr G36\, FM a.Trp.\nBetreiben Checkpoint
URL:https://rk-karlsruhe.de/t/patrouille-und-streife/
LOCATION:General-Dr.-Speidel-Kaserne\, Eichelberg\, Bruchsal\, 76646
CATEGORIES:DVAG
ATTACH;FMTTYPE=image/jpeg:https://rk-karlsruhe.de/wp-content/uploads/2016/08/RK_Karlsruhe_I-0170.jpg
END:VEVENT
BEGIN:VEVENT
DTSTART;TZID=Europe/Berlin:20230726T190000
DTEND;TZID=Europe/Berlin:20230726T230000
DTSTAMP:20260423T134346
CREATED:20221205T155650Z
LAST-MODIFIED:20221205T155650Z
UID:5068-1690398000-1690412400@rk-karlsruhe.de
SUMMARY:Stammtisch: Kühners Wirtshaus
DESCRIPTION:
URL:https://rk-karlsruhe.de/t/stammtisch-kuehners-wirtshaus-2/
LOCATION:Kühners Wirtshaus\, Rastatter Str. 23\, Karlsruhe\, 76199\, Deutschland
CATEGORIES:VVAG
ATTACH;FMTTYPE=image/jpeg:https://rk-karlsruhe.de/wp-content/uploads/2022/11/shutterstock_1932546821.jpg
ORGANIZER;CN="RK Karlsruhe":MAILTO:info@rk-karlsruhe.de
END:VEVENT
END:VCALENDAR