BEGIN:VCALENDAR
VERSION:2.0
PRODID:-//Reservistenkameradschaft Karlsruhe - ECPv6.15.11//NONSGML v1.0//EN
CALSCALE:GREGORIAN
METHOD:PUBLISH
X-ORIGINAL-URL:https://rk-karlsruhe.de
X-WR-CALDESC:Veranstaltungen für Reservistenkameradschaft Karlsruhe
REFRESH-INTERVAL;VALUE=DURATION:PT1H
X-Robots-Tag:noindex
X-PUBLISHED-TTL:PT1H
BEGIN:VTIMEZONE
TZID:Europe/Berlin
BEGIN:DAYLIGHT
TZOFFSETFROM:+0100
TZOFFSETTO:+0200
TZNAME:CEST
DTSTART:20220327T010000
END:DAYLIGHT
BEGIN:STANDARD
TZOFFSETFROM:+0200
TZOFFSETTO:+0100
TZNAME:CET
DTSTART:20221030T010000
END:STANDARD
BEGIN:DAYLIGHT
TZOFFSETFROM:+0100
TZOFFSETTO:+0200
TZNAME:CEST
DTSTART:20230326T010000
END:DAYLIGHT
BEGIN:STANDARD
TZOFFSETFROM:+0200
TZOFFSETTO:+0100
TZNAME:CET
DTSTART:20231029T010000
END:STANDARD
BEGIN:DAYLIGHT
TZOFFSETFROM:+0100
TZOFFSETTO:+0200
TZNAME:CEST
DTSTART:20240331T010000
END:DAYLIGHT
BEGIN:STANDARD
TZOFFSETFROM:+0200
TZOFFSETTO:+0100
TZNAME:CET
DTSTART:20241027T010000
END:STANDARD
END:VTIMEZONE
BEGIN:VEVENT
DTSTART;TZID=Europe/Berlin:20230901T120000
DTEND;TZID=Europe/Berlin:20230902T235900
DTSTAMP:20260423T104223
CREATED:20221206T080304Z
LAST-MODIFIED:20240626T183358Z
UID:5926-1693569600-1693699140@rk-karlsruhe.de
SUMMARY:O-Marsch "Tag": Übung Orientierung im Gelände
DESCRIPTION:
URL:https://rk-karlsruhe.de/t/o-marsch-tag-uebung-orientierung-im-gelaende/
LOCATION:StOÜbPl Eichelberg\, StOÜbPl Eichelberg\, Bruchsal\, 76646
CATEGORIES:VVAG
ATTACH;FMTTYPE=image/jpeg:https://rk-karlsruhe.de/wp-content/uploads/2016/08/RK_Karlsruhe_I-1004.jpg
END:VEVENT
BEGIN:VEVENT
DTSTART;TZID=Europe/Berlin:20230903T100000
DTEND;TZID=Europe/Berlin:20230903T200000
DTSTAMP:20260423T104223
CREATED:20221206T081344Z
LAST-MODIFIED:20221206T081538Z
UID:5089-1693735200-1693771200@rk-karlsruhe.de
SUMMARY:Exkursion: Vogelsang IP
DESCRIPTION:Vogelsang IP\, 53937 Schleiden (PolBil) \n(Das Artikelbild ist ein Platzhalter.)
URL:https://rk-karlsruhe.de/t/exkursion-vogelsang-ip/
LOCATION:Alsace
CATEGORIES:VVAG
ATTACH;FMTTYPE=image/jpeg:https://rk-karlsruhe.de/wp-content/uploads/2016/08/RK_Karlsruhe_I-1024.jpg
ORGANIZER;CN="RK Karlsruhe":MAILTO:info@rk-karlsruhe.de
END:VEVENT
BEGIN:VEVENT
DTSTART;TZID=Europe/Berlin:20230909T080000
DTEND;TZID=Europe/Berlin:20230909T160000
DTSTAMP:20260423T104223
CREATED:20221206T083648Z
LAST-MODIFIED:20221206T094942Z
UID:5091-1694246400-1694275200@rk-karlsruhe.de
SUMMARY:Abnahme KLF/BFT
DESCRIPTION:Leistungsmarsch und BFT
URL:https://rk-karlsruhe.de/t/abnahme-klf-bft/
LOCATION:SG Kirchfeld-Kaserne\, An der Trift 13-15\, Karlsruhe\, 76149
CATEGORIES:IGF/KLF
ORGANIZER;CN="RK Karlsruhe":MAILTO:info@rk-karlsruhe.de
END:VEVENT
BEGIN:VEVENT
DTSTART;TZID=Europe/Berlin:20230913T190000
DTEND;TZID=Europe/Berlin:20230913T230000
DTSTAMP:20260423T104223
CREATED:20221206T083832Z
LAST-MODIFIED:20221206T095212Z
UID:5093-1694631600-1694646000@rk-karlsruhe.de
SUMMARY:RK-Abend: Vortrag SiPol
DESCRIPTION:
URL:https://rk-karlsruhe.de/t/rk-abend-vortrag-sipol/
LOCATION:SG Kirchfeld-Kaserne\, An der Trift 13-15\, Karlsruhe\, 76149
CATEGORIES:VVAG
ATTACH;FMTTYPE=image/jpeg:https://rk-karlsruhe.de/wp-content/uploads/2022/11/shutterstock_2132531481.jpg
ORGANIZER;CN="RK Karlsruhe":MAILTO:info@rk-karlsruhe.de
END:VEVENT
BEGIN:VEVENT
DTSTART;TZID=Europe/Berlin:20230927T190000
DTEND;TZID=Europe/Berlin:20230927T230000
DTSTAMP:20260423T104223
CREATED:20221206T083948Z
LAST-MODIFIED:20221206T083948Z
UID:5095-1695841200-1695855600@rk-karlsruhe.de
SUMMARY:Stammtisch: Irish Pub
DESCRIPTION:
URL:https://rk-karlsruhe.de/t/stammtisch-irish-pub-2/
LOCATION:Hendersons Irish Pub\, Karl-Wilhelm-Str. 10\, Karlsruhe\, 76131\, Deutschland
CATEGORIES:VVAG
ATTACH;FMTTYPE=image/webp:https://rk-karlsruhe.de/wp-content/uploads/2022/12/bd2608_b8432e677e3f4b5a9b1889f61612260ff000.webp
ORGANIZER;CN="RK Karlsruhe":MAILTO:info@rk-karlsruhe.de
END:VEVENT
BEGIN:VEVENT
DTSTART;TZID=Europe/Berlin:20230930T080000
DTEND;TZID=Europe/Berlin:20230930T200000
DTSTAMP:20260423T104223
CREATED:20221206T084313Z
LAST-MODIFIED:20221206T084313Z
UID:5097-1696060800-1696104000@rk-karlsruhe.de
SUMMARY:Exkursion: Hartmannswillerkopf
DESCRIPTION:Hartmannswillerkopf\, Vieil Armand\, F-68700 Wattwiller \n(Das Artikelbild ist ein Platzhalter.)
URL:https://rk-karlsruhe.de/t/exkursion-hartmannswillerkopf/
LOCATION:Alsace
CATEGORIES:VVAG
ATTACH;FMTTYPE=image/jpeg:https://rk-karlsruhe.de/wp-content/uploads/2016/08/RK_Karlsruhe_I-1218.jpg
ORGANIZER;CN="RK Karlsruhe":MAILTO:info@rk-karlsruhe.de
END:VEVENT
END:VCALENDAR