BEGIN:VCALENDAR
VERSION:2.0
PRODID:-//Reservistenkameradschaft Karlsruhe - ECPv6.15.11//NONSGML v1.0//EN
CALSCALE:GREGORIAN
METHOD:PUBLISH
X-ORIGINAL-URL:https://rk-karlsruhe.de
X-WR-CALDESC:Veranstaltungen für Reservistenkameradschaft Karlsruhe
REFRESH-INTERVAL;VALUE=DURATION:PT1H
X-Robots-Tag:noindex
X-PUBLISHED-TTL:PT1H
BEGIN:VTIMEZONE
TZID:Europe/Berlin
BEGIN:DAYLIGHT
TZOFFSETFROM:+0100
TZOFFSETTO:+0200
TZNAME:CEST
DTSTART:20220327T010000
END:DAYLIGHT
BEGIN:STANDARD
TZOFFSETFROM:+0200
TZOFFSETTO:+0100
TZNAME:CET
DTSTART:20221030T010000
END:STANDARD
BEGIN:DAYLIGHT
TZOFFSETFROM:+0100
TZOFFSETTO:+0200
TZNAME:CEST
DTSTART:20230326T010000
END:DAYLIGHT
BEGIN:STANDARD
TZOFFSETFROM:+0200
TZOFFSETTO:+0100
TZNAME:CET
DTSTART:20231029T010000
END:STANDARD
BEGIN:DAYLIGHT
TZOFFSETFROM:+0100
TZOFFSETTO:+0200
TZNAME:CEST
DTSTART:20240331T010000
END:DAYLIGHT
BEGIN:STANDARD
TZOFFSETFROM:+0200
TZOFFSETTO:+0100
TZNAME:CET
DTSTART:20241027T010000
END:STANDARD
END:VTIMEZONE
BEGIN:VEVENT
DTSTART;TZID=Europe/Berlin:20231011T190000
DTEND;TZID=Europe/Berlin:20231011T230000
DTSTAMP:20260423T121456
CREATED:20221206T084520Z
LAST-MODIFIED:20221206T094910Z
UID:5099-1697050800-1697065200@rk-karlsruhe.de
SUMMARY:RK-Abend: Volksbund
DESCRIPTION:
URL:https://rk-karlsruhe.de/t/rk-abend-volksbund/
LOCATION:SG Kirchfeld-Kaserne\, An der Trift 13-15\, Karlsruhe\, 76149
CATEGORIES:VVAG
ATTACH;FMTTYPE=image/jpeg:https://rk-karlsruhe.de/wp-content/uploads/2016/08/RK_Karlsruhe_I-0336.jpg
ORGANIZER;CN="RK Karlsruhe":MAILTO:info@rk-karlsruhe.de
END:VEVENT
BEGIN:VEVENT
DTSTART;TZID=Europe/Berlin:20231014T060000
DTEND;TZID=Europe/Berlin:20231014T200000
DTSTAMP:20260423T121456
CREATED:20221206T084841Z
LAST-MODIFIED:20221206T094900Z
UID:5101-1697263200-1697313600@rk-karlsruhe.de
SUMMARY:Sternmarsch: Gedenkmarsch für Fw Arndt
DESCRIPTION:Info: Gedenkmarsch für Fw Arndt\nAnzug: Feldanzug\nOrt: Schlossplatz\, 76131 Karlsruhe
URL:https://rk-karlsruhe.de/t/sternmarsch-gedenkmarsch-fuer-fw-arndt/
LOCATION:Alsace
CATEGORIES:VVAG
ATTACH;FMTTYPE=image/jpeg:https://rk-karlsruhe.de/wp-content/uploads/2016/08/RK_Karlsruhe_I-0194.jpg
ORGANIZER;CN="RK Karlsruhe":MAILTO:info@rk-karlsruhe.de
END:VEVENT
BEGIN:VEVENT
DTSTART;TZID=Europe/Berlin:20231025T190000
DTEND;TZID=Europe/Berlin:20231025T230000
DTSTAMP:20260423T121456
CREATED:20221206T084937Z
LAST-MODIFIED:20221206T084937Z
UID:5103-1698260400-1698274800@rk-karlsruhe.de
SUMMARY:Stammtisch: Kühners Wirtshaus
DESCRIPTION:
URL:https://rk-karlsruhe.de/t/stammtisch-kuehners-wirtshaus-3/
LOCATION:Kühners Wirtshaus\, Rastatter Str. 23\, Karlsruhe\, 76199\, Deutschland
CATEGORIES:VVAG
ATTACH;FMTTYPE=image/jpeg:https://rk-karlsruhe.de/wp-content/uploads/2022/11/shutterstock_1932546821.jpg
ORGANIZER;CN="RK Karlsruhe":MAILTO:info@rk-karlsruhe.de
END:VEVENT
END:VCALENDAR