BEGIN:VCALENDAR
VERSION:2.0
PRODID:-//Reservistenkameradschaft Karlsruhe - ECPv6.15.11//NONSGML v1.0//EN
CALSCALE:GREGORIAN
METHOD:PUBLISH
X-WR-CALNAME:Reservistenkameradschaft Karlsruhe
X-ORIGINAL-URL:https://rk-karlsruhe.de
X-WR-CALDESC:Veranstaltungen für Reservistenkameradschaft Karlsruhe
REFRESH-INTERVAL;VALUE=DURATION:PT1H
X-Robots-Tag:noindex
X-PUBLISHED-TTL:PT1H
BEGIN:VTIMEZONE
TZID:Europe/Berlin
BEGIN:DAYLIGHT
TZOFFSETFROM:+0100
TZOFFSETTO:+0200
TZNAME:CEST
DTSTART:20220327T010000
END:DAYLIGHT
BEGIN:STANDARD
TZOFFSETFROM:+0200
TZOFFSETTO:+0100
TZNAME:CET
DTSTART:20221030T010000
END:STANDARD
BEGIN:DAYLIGHT
TZOFFSETFROM:+0100
TZOFFSETTO:+0200
TZNAME:CEST
DTSTART:20230326T010000
END:DAYLIGHT
BEGIN:STANDARD
TZOFFSETFROM:+0200
TZOFFSETTO:+0100
TZNAME:CET
DTSTART:20231029T010000
END:STANDARD
BEGIN:DAYLIGHT
TZOFFSETFROM:+0100
TZOFFSETTO:+0200
TZNAME:CEST
DTSTART:20240331T010000
END:DAYLIGHT
BEGIN:STANDARD
TZOFFSETFROM:+0200
TZOFFSETTO:+0100
TZNAME:CET
DTSTART:20241027T010000
END:STANDARD
BEGIN:DAYLIGHT
TZOFFSETFROM:+0100
TZOFFSETTO:+0200
TZNAME:CEST
DTSTART:20250330T010000
END:DAYLIGHT
BEGIN:STANDARD
TZOFFSETFROM:+0200
TZOFFSETTO:+0100
TZNAME:CET
DTSTART:20251026T010000
END:STANDARD
END:VTIMEZONE
BEGIN:VEVENT
DTSTART;TZID=Europe/Berlin:20231101T090000
DTEND;TZID=Europe/Berlin:20231101T170000
DTSTAMP:20260423T071553
CREATED:20221206T085435Z
LAST-MODIFIED:20221206T101207Z
UID:5105-1698829200-1698858000@rk-karlsruhe.de
SUMMARY:Sammlung: Volksbund
DESCRIPTION:Sammlung zugunsten VDK (im Feldanzug)\nu.a. Hauptfriedhof 76131 Karlsruhe\, siehe Liste
URL:https://rk-karlsruhe.de/t/sammlung-volksbund/
LOCATION:Alsace
CATEGORIES:VVAG
ATTACH;FMTTYPE=image/jpeg:https://rk-karlsruhe.de/wp-content/uploads/2016/08/RK_Karlsruhe_I-0859.jpg
ORGANIZER;CN="RK Karlsruhe":MAILTO:info@rk-karlsruhe.de
END:VEVENT
BEGIN:VEVENT
DTSTART;TZID=Europe/Berlin:20240117T190000
DTEND;TZID=Europe/Berlin:20240117T190000
DTSTAMP:20260423T071553
CREATED:20221206T085724Z
LAST-MODIFIED:20240626T174211Z
UID:5897-1705518000-1705518000@rk-karlsruhe.de
SUMMARY:RK-Abend: offene Themen
DESCRIPTION:
URL:https://rk-karlsruhe.de/t/rk-abend-offene-themen/
LOCATION:SG Kirchfeld-Kaserne\, An der Trift 13-15\, Karlsruhe\, 76149
CATEGORIES:VVAG
ATTACH;FMTTYPE=image/jpeg:https://rk-karlsruhe.de/wp-content/uploads/2016/08/RK_Karlsruhe_I-0488.jpg
ORGANIZER;CN="RK Karlsruhe":MAILTO:info@rk-karlsruhe.de
END:VEVENT
BEGIN:VEVENT
DTSTART;TZID=Europe/Berlin:20240214T190000
DTEND;TZID=Europe/Berlin:20240214T190000
DTSTAMP:20260423T071553
CREATED:20221206T085724Z
LAST-MODIFIED:20240626T174518Z
UID:5903-1707937200-1707937200@rk-karlsruhe.de
SUMMARY:RK-Abend: "Reichsbürger"
DESCRIPTION:
URL:https://rk-karlsruhe.de/t/rk-abend-vortrag-rb/
LOCATION:SG Kirchfeld-Kaserne\, An der Trift 13-15\, Karlsruhe\, 76149
CATEGORIES:VVAG
ORGANIZER;CN="RK Karlsruhe":MAILTO:info@rk-karlsruhe.de
END:VEVENT
BEGIN:VEVENT
DTSTART;TZID=Europe/Berlin:20231108T190000
DTEND;TZID=Europe/Berlin:20231108T230000
DTSTAMP:20260423T071553
CREATED:20221206T085724Z
LAST-MODIFIED:20221206T085739Z
UID:5108-1699470000-1699484400@rk-karlsruhe.de
SUMMARY:RK-Abend: Mil.Historie
DESCRIPTION:
URL:https://rk-karlsruhe.de/t/rk-abend-vortrag-mil-historie/
LOCATION:SG Kirchfeld-Kaserne\, An der Trift 13-15\, Karlsruhe\, 76149
CATEGORIES:VVAG
ATTACH;FMTTYPE=image/jpeg:https://rk-karlsruhe.de/wp-content/uploads/2016/08/RK_Karlsruhe_I-0488.jpg
ORGANIZER;CN="RK Karlsruhe":MAILTO:info@rk-karlsruhe.de
END:VEVENT
BEGIN:VEVENT
DTSTART;TZID=Europe/Berlin:20231118T090000
DTEND;TZID=Europe/Berlin:20231118T150000
DTSTAMP:20260423T071553
CREATED:20221206T090004Z
LAST-MODIFIED:20221206T101211Z
UID:5111-1700298000-1700319600@rk-karlsruhe.de
SUMMARY:Kreispokalschiessen
DESCRIPTION:TN am Pokalschiessen der KrsGrp
URL:https://rk-karlsruhe.de/t/kreispokalschiessen/
LOCATION:SC Mörsch\, Rheinstetten\, 76287\, Deutschland
CATEGORIES:VVAG
ATTACH;FMTTYPE=image/jpeg:https://rk-karlsruhe.de/wp-content/uploads/2016/08/IMG_1877-scaled.jpg
END:VEVENT
BEGIN:VEVENT
DTSTART;TZID=Europe/Berlin:20231119T100000
DTEND;TZID=Europe/Berlin:20231119T120000
DTSTAMP:20260423T071553
CREATED:20221206T090137Z
LAST-MODIFIED:20221206T094828Z
UID:5114-1700388000-1700395200@rk-karlsruhe.de
SUMMARY:Volkstrauertag
DESCRIPTION:Gedenkfeier\, Kranzniederlegung am Hauptfriedhof 76131 Karlsruhe (Dienstanzug)
URL:https://rk-karlsruhe.de/t/volkstrauertag/
LOCATION:Alsace
CATEGORIES:VVAG
ATTACH;FMTTYPE=image/jpeg:https://rk-karlsruhe.de/wp-content/uploads/2016/08/RK_Karlsruhe_I-1081.jpg
END:VEVENT
BEGIN:VEVENT
DTSTART;TZID=Europe/Berlin:20231122T190000
DTEND;TZID=Europe/Berlin:20231122T230000
DTSTAMP:20260423T071553
CREATED:20221206T090212Z
LAST-MODIFIED:20221206T090212Z
UID:5116-1700679600-1700694000@rk-karlsruhe.de
SUMMARY:Stammtisch: Carls Wirtshaus
DESCRIPTION:
URL:https://rk-karlsruhe.de/t/stammtisch-carls-wirtshaus-2/
LOCATION:Carls Wirtshaus\, Alter Schlachthof 51\, Karlsruhe\, 76131\, Deutschland
CATEGORIES:VVAG
ATTACH;FMTTYPE=image/jpeg:https://rk-karlsruhe.de/wp-content/uploads/2022/11/shutterstock_1932546821.jpg
ORGANIZER;CN="RK Karlsruhe":MAILTO:info@rk-karlsruhe.de
END:VEVENT
END:VCALENDAR