BEGIN:VCALENDAR
VERSION:2.0
PRODID:-//Reservistenkameradschaft Karlsruhe - ECPv6.15.11//NONSGML v1.0//EN
CALSCALE:GREGORIAN
METHOD:PUBLISH
X-WR-CALNAME:Reservistenkameradschaft Karlsruhe
X-ORIGINAL-URL:https://rk-karlsruhe.de
X-WR-CALDESC:Veranstaltungen für Reservistenkameradschaft Karlsruhe
REFRESH-INTERVAL;VALUE=DURATION:PT1H
X-Robots-Tag:noindex
X-PUBLISHED-TTL:PT1H
BEGIN:VTIMEZONE
TZID:Europe/Berlin
BEGIN:DAYLIGHT
TZOFFSETFROM:+0100
TZOFFSETTO:+0200
TZNAME:CEST
DTSTART:20230326T010000
END:DAYLIGHT
BEGIN:STANDARD
TZOFFSETFROM:+0200
TZOFFSETTO:+0100
TZNAME:CET
DTSTART:20231029T010000
END:STANDARD
BEGIN:DAYLIGHT
TZOFFSETFROM:+0100
TZOFFSETTO:+0200
TZNAME:CEST
DTSTART:20240331T010000
END:DAYLIGHT
BEGIN:STANDARD
TZOFFSETFROM:+0200
TZOFFSETTO:+0100
TZNAME:CET
DTSTART:20241027T010000
END:STANDARD
BEGIN:DAYLIGHT
TZOFFSETFROM:+0100
TZOFFSETTO:+0200
TZNAME:CEST
DTSTART:20250330T010000
END:DAYLIGHT
BEGIN:STANDARD
TZOFFSETFROM:+0200
TZOFFSETTO:+0100
TZNAME:CET
DTSTART:20251026T010000
END:STANDARD
END:VTIMEZONE
BEGIN:VEVENT
DTSTART;TZID=Europe/Berlin:20240814T180000
DTEND;TZID=Europe/Berlin:20240814T220000
DTSTAMP:20260422T143420
CREATED:20221107T111822Z
LAST-MODIFIED:20240805T165940Z
UID:5955-1723658400-1723672800@rk-karlsruhe.de
SUMMARY:Allg. mil Ausbildung
DESCRIPTION:[vc_row][vc_column][vc_column_text]Praktischer Dienst. Durchführung als Stationsausbildung im Rahmen einer Verbandsveranstaltung (VVag) mit UTE (Feldanzug).[/vc_column_text][/vc_column][/vc_row]
URL:https://rk-karlsruhe.de/t/allg-mil-ausbildung/
LOCATION:SG Kirchfeld-Kaserne\, An der Trift 13-15\, Karlsruhe\, 76149
CATEGORIES:VVAG
ATTACH;FMTTYPE=image/jpeg:https://rk-karlsruhe.de/wp-content/uploads/2016/08/IMG_1187-scaled.jpg
ORGANIZER;CN="RK Karlsruhe":MAILTO:info@rk-karlsruhe.de
END:VEVENT
BEGIN:VEVENT
DTSTART;TZID=Europe/Berlin:20240828T190000
DTEND;TZID=Europe/Berlin:20240828T230000
DTSTAMP:20260422T143420
CREATED:20221206T083948Z
LAST-MODIFIED:20240626T183448Z
UID:5959-1724871600-1724886000@rk-karlsruhe.de
SUMMARY:Stammtisch: Irish Pub
DESCRIPTION:
URL:https://rk-karlsruhe.de/t/stammtisch-irish-pub-2-2/
LOCATION:Hendersons Irish Pub\, Karl-Wilhelm-Str. 10\, Karlsruhe\, 76131\, Deutschland
CATEGORIES:VVAG
ATTACH;FMTTYPE=image/webp:https://rk-karlsruhe.de/wp-content/uploads/2022/12/bd2608_b8432e677e3f4b5a9b1889f61612260ff000.webp
ORGANIZER;CN="RK Karlsruhe":MAILTO:info@rk-karlsruhe.de
END:VEVENT
BEGIN:VEVENT
DTSTART;TZID=Europe/Berlin:20240830T120000
DTEND;TZID=Europe/Berlin:20240831T235900
DTSTAMP:20260422T143420
CREATED:20221206T080304Z
LAST-MODIFIED:20240626T184344Z
UID:5961-1725019200-1725148740@rk-karlsruhe.de
SUMMARY:TN Hürtgenwaldmarsch
DESCRIPTION:Info: DVag des LKdo NRW\nAnzug: Feldanzug\nOrt: Gemeinde 52393 Hürtgenwald
URL:https://rk-karlsruhe.de/t/tn-huertgenwaldmarsch-2/
LOCATION:Alsace
CATEGORIES:DVAG
ATTACH;FMTTYPE=image/jpeg:https://rk-karlsruhe.de/wp-content/uploads/2016/08/RK_Karlsruhe_I-1004.jpg
END:VEVENT
END:VCALENDAR