BEGIN:VCALENDAR
VERSION:2.0
PRODID:-//Reservistenkameradschaft Karlsruhe - ECPv6.15.11//NONSGML v1.0//EN
CALSCALE:GREGORIAN
METHOD:PUBLISH
X-WR-CALNAME:Reservistenkameradschaft Karlsruhe
X-ORIGINAL-URL:https://rk-karlsruhe.de
X-WR-CALDESC:Veranstaltungen für Reservistenkameradschaft Karlsruhe
REFRESH-INTERVAL;VALUE=DURATION:PT1H
X-Robots-Tag:noindex
X-PUBLISHED-TTL:PT1H
BEGIN:VTIMEZONE
TZID:Europe/Berlin
BEGIN:DAYLIGHT
TZOFFSETFROM:+0100
TZOFFSETTO:+0200
TZNAME:CEST
DTSTART:20230326T010000
END:DAYLIGHT
BEGIN:STANDARD
TZOFFSETFROM:+0200
TZOFFSETTO:+0100
TZNAME:CET
DTSTART:20231029T010000
END:STANDARD
BEGIN:DAYLIGHT
TZOFFSETFROM:+0100
TZOFFSETTO:+0200
TZNAME:CEST
DTSTART:20240331T010000
END:DAYLIGHT
BEGIN:STANDARD
TZOFFSETFROM:+0200
TZOFFSETTO:+0100
TZNAME:CET
DTSTART:20241027T010000
END:STANDARD
BEGIN:DAYLIGHT
TZOFFSETFROM:+0100
TZOFFSETTO:+0200
TZNAME:CEST
DTSTART:20250330T010000
END:DAYLIGHT
BEGIN:STANDARD
TZOFFSETFROM:+0200
TZOFFSETTO:+0100
TZNAME:CET
DTSTART:20251026T010000
END:STANDARD
END:VTIMEZONE
BEGIN:VEVENT
DTSTART;TZID=Europe/Berlin:20241130T090000
DTEND;TZID=Europe/Berlin:20241130T150000
DTSTAMP:20260419T163459
CREATED:20221206T090322Z
LAST-MODIFIED:20240626T185453Z
UID:5989-1732957200-1732978800@rk-karlsruhe.de
SUMMARY:Brezelpokalschießen 2024
DESCRIPTION:
URL:https://rk-karlsruhe.de/t/brezelpokalschiessen-2024/
LOCATION:Schützenhaus ESG Frankonia\, Im Weiherwald\, Karlsruhe\, 76199\, Deutschland
CATEGORIES:VVAG
ATTACH;FMTTYPE=image/jpeg:https://rk-karlsruhe.de/wp-content/uploads/2022/11/brezeln.jpg
ORGANIZER;CN="RK Karlsruhe":MAILTO:info@rk-karlsruhe.de
END:VEVENT
END:VCALENDAR